BEGIN:VCALENDAR
VERSION:2.0
PRODID:-//Manor Park Primary Academy - ECPv6.5.1.6//NONSGML v1.0//EN
CALSCALE:GREGORIAN
METHOD:PUBLISH
X-WR-CALNAME:Manor Park Primary Academy
X-ORIGINAL-URL:https://www.manorparkacademy.co.uk
X-WR-CALDESC:Events for Manor Park Primary Academy
REFRESH-INTERVAL;VALUE=DURATION:PT1H
X-Robots-Tag:noindex
X-PUBLISHED-TTL:PT1H
BEGIN:VTIMEZONE
TZID:UTC
BEGIN:STANDARD
TZOFFSETFROM:+0000
TZOFFSETTO:+0000
TZNAME:UTC
DTSTART:20260101T000000
END:STANDARD
END:VTIMEZONE
BEGIN:VEVENT
DTSTART;TZID=UTC:20260421T090000
DTEND;TZID=UTC:20260421T100000
DTSTAMP:20260420T230839
CREATED:20260302T115943Z
LAST-MODIFIED:20260302T115943Z
UID:3784-1776762000-1776765600@www.manorparkacademy.co.uk
SUMMARY:Coffee Morning
DESCRIPTION:
URL:https://www.manorparkacademy.co.uk/school-calendar/coffee-morning-8/
END:VEVENT
BEGIN:VEVENT
DTSTART;TZID=UTC:20260422T084000
DTEND;TZID=UTC:20260422T085500
DTSTAMP:20260420T230839
CREATED:20260130T144427Z
LAST-MODIFIED:20260305T154141Z
UID:3742-1776847200-1776848100@www.manorparkacademy.co.uk
SUMMARY:Reception Parent and Child Reading Session
DESCRIPTION:
URL:https://www.manorparkacademy.co.uk/school-calendar/reception-parent-and-child-reading-session-3/
END:VEVENT
BEGIN:VEVENT
DTSTART;TZID=UTC:20260423T090000
DTEND;TZID=UTC:20260423T103000
DTSTAMP:20260420T230839
CREATED:20260130T143911Z
LAST-MODIFIED:20260305T154349Z
UID:3736-1776934800-1776940200@www.manorparkacademy.co.uk
SUMMARY:Stay and Play
DESCRIPTION:
URL:https://www.manorparkacademy.co.uk/school-calendar/stay-and-play-13/
END:VEVENT
BEGIN:VEVENT
DTSTART;TZID=UTC:20260428T090000
DTEND;TZID=UTC:20260428T100000
DTSTAMP:20260420T230839
CREATED:20260302T115659Z
LAST-MODIFIED:20260302T115659Z
UID:3782-1777366800-1777370400@www.manorparkacademy.co.uk
SUMMARY:Coffee Morning
DESCRIPTION:
URL:https://www.manorparkacademy.co.uk/school-calendar/coffee-morning-10/
END:VEVENT
BEGIN:VEVENT
DTSTART;TZID=UTC:20260429T084000
DTEND;TZID=UTC:20260429T085500
DTSTAMP:20260420T230839
CREATED:20260130T144533Z
LAST-MODIFIED:20260305T154121Z
UID:3744-1777452000-1777452900@www.manorparkacademy.co.uk
SUMMARY:Reception Parent and Child Reading Session
DESCRIPTION:
URL:https://www.manorparkacademy.co.uk/school-calendar/reception-parent-and-child-reading-session-4/
END:VEVENT
BEGIN:VEVENT
DTSTART;TZID=UTC:20260430T090000
DTEND;TZID=UTC:20260430T103000
DTSTAMP:20260420T230839
CREATED:20260130T144227Z
LAST-MODIFIED:20260130T144227Z
UID:3740-1777539600-1777545000@www.manorparkacademy.co.uk
SUMMARY:Stay and Play
DESCRIPTION:
URL:https://www.manorparkacademy.co.uk/school-calendar/stay-and-play-14/
END:VEVENT
BEGIN:VEVENT
DTSTART;TZID=UTC:20260430T131500
DTEND;TZID=UTC:20260430T141500
DTSTAMP:20260420T230839
CREATED:20260414T135209Z
LAST-MODIFIED:20260414T135209Z
UID:3865-1777554900-1777558500@www.manorparkacademy.co.uk
SUMMARY:Y1 Ballet Workshop
DESCRIPTION:
URL:https://www.manorparkacademy.co.uk/school-calendar/y1-ballet-workshop/
END:VEVENT
END:VCALENDAR