BEGIN:VCALENDAR
VERSION:2.0
PRODID:-//Manor Park Primary Academy - ECPv6.5.1.6//NONSGML v1.0//EN
CALSCALE:GREGORIAN
METHOD:PUBLISH
X-ORIGINAL-URL:https://www.manorparkacademy.co.uk
X-WR-CALDESC:Events for Manor Park Primary Academy
REFRESH-INTERVAL;VALUE=DURATION:PT1H
X-Robots-Tag:noindex
X-PUBLISHED-TTL:PT1H
BEGIN:VTIMEZONE
TZID:UTC
BEGIN:STANDARD
TZOFFSETFROM:+0000
TZOFFSETTO:+0000
TZNAME:UTC
DTSTART:20260101T000000
END:STANDARD
END:VTIMEZONE
BEGIN:VEVENT
DTSTART;TZID=UTC:20260505T090000
DTEND;TZID=UTC:20260505T100000
DTSTAMP:20260422T163934
CREATED:20260318T103334Z
LAST-MODIFIED:20260318T103334Z
UID:3830-1777971600-1777975200@www.manorparkacademy.co.uk
SUMMARY:Coffee Morning
DESCRIPTION:
URL:https://www.manorparkacademy.co.uk/school-calendar/coffee-morning-14/
END:VEVENT
BEGIN:VEVENT
DTSTART;TZID=UTC:20260506T084000
DTEND;TZID=UTC:20260506T085500
DTSTAMP:20260422T163934
CREATED:20260306T123052Z
LAST-MODIFIED:20260306T123052Z
UID:3813-1778056800-1778057700@www.manorparkacademy.co.uk
SUMMARY:Reception Parent and Child Reading Session
DESCRIPTION:
URL:https://www.manorparkacademy.co.uk/school-calendar/reception-parent-and-child-reading-session-5/
END:VEVENT
BEGIN:VEVENT
DTSTART;TZID=UTC:20260507T090000
DTEND;TZID=UTC:20260507T103000
DTSTAMP:20260422T163934
CREATED:20260306T123507Z
LAST-MODIFIED:20260306T123507Z
UID:3819-1778144400-1778149800@www.manorparkacademy.co.uk
SUMMARY:Stay and Play
DESCRIPTION:
URL:https://www.manorparkacademy.co.uk/school-calendar/stay-and-play-11/
END:VEVENT
BEGIN:VEVENT
DTSTART;TZID=UTC:20260512T090000
DTEND;TZID=UTC:20260512T100000
DTSTAMP:20260422T163934
CREATED:20260318T103716Z
LAST-MODIFIED:20260318T103716Z
UID:3832-1778576400-1778580000@www.manorparkacademy.co.uk
SUMMARY:Coffee Morning
DESCRIPTION:
URL:https://www.manorparkacademy.co.uk/school-calendar/coffee-morning-15/
END:VEVENT
BEGIN:VEVENT
DTSTART;TZID=UTC:20260513T084000
DTEND;TZID=UTC:20260513T085500
DTSTAMP:20260422T163934
CREATED:20260306T123245Z
LAST-MODIFIED:20260306T123245Z
UID:3815-1778661600-1778662500@www.manorparkacademy.co.uk
SUMMARY:Reception Parent and Child Reading Session
DESCRIPTION:
URL:https://www.manorparkacademy.co.uk/school-calendar/reception-parent-and-child-reading-session-6/
END:VEVENT
BEGIN:VEVENT
DTSTART;TZID=UTC:20260514T090000
DTEND;TZID=UTC:20260514T103000
DTSTAMP:20260422T163934
CREATED:20260306T123703Z
LAST-MODIFIED:20260306T123703Z
UID:3821-1778749200-1778754600@www.manorparkacademy.co.uk
SUMMARY:Stay and Play
DESCRIPTION:
URL:https://www.manorparkacademy.co.uk/school-calendar/stay-and-play-15/
END:VEVENT
BEGIN:VEVENT
DTSTART;TZID=UTC:20260519T090000
DTEND;TZID=UTC:20260519T100000
DTSTAMP:20260422T163934
CREATED:20260318T103826Z
LAST-MODIFIED:20260318T103826Z
UID:3834-1779181200-1779184800@www.manorparkacademy.co.uk
SUMMARY:Coffee Morning
DESCRIPTION:
URL:https://www.manorparkacademy.co.uk/school-calendar/coffee-morning-16/
END:VEVENT
BEGIN:VEVENT
DTSTART;TZID=UTC:20260520T084000
DTEND;TZID=UTC:20260520T085500
DTSTAMP:20260422T163934
CREATED:20260306T123413Z
LAST-MODIFIED:20260306T123413Z
UID:3817-1779266400-1779267300@www.manorparkacademy.co.uk
SUMMARY:Reception Parent and Child Reading Session
DESCRIPTION:
URL:https://www.manorparkacademy.co.uk/school-calendar/reception-parent-and-child-reading-session-7/
END:VEVENT
BEGIN:VEVENT
DTSTART;TZID=UTC:20260520T090000
DTEND;TZID=UTC:20260520T103000
DTSTAMP:20260422T163934
CREATED:20260306T140024Z
LAST-MODIFIED:20260306T140024Z
UID:3823-1779267600-1779273000@www.manorparkacademy.co.uk
SUMMARY:Stay and Play
DESCRIPTION:
URL:https://www.manorparkacademy.co.uk/school-calendar/stay-and-play-16/
END:VEVENT
BEGIN:VEVENT
DTSTART;VALUE=DATE:20260525
DTEND;VALUE=DATE:20260530
DTSTAMP:20260422T163934
CREATED:20250619T093556Z
LAST-MODIFIED:20250619T093556Z
UID:3318-1779667200-1780099199@www.manorparkacademy.co.uk
SUMMARY:Half Term holiday - School Closed
DESCRIPTION:
URL:https://www.manorparkacademy.co.uk/school-calendar/half-term-holiday-school-closed-6/
END:VEVENT
END:VCALENDAR