BEGIN:VCALENDAR
VERSION:2.0
PRODID:-//Manor Park Primary Academy - ECPv6.5.1.6//NONSGML v1.0//EN
CALSCALE:GREGORIAN
METHOD:PUBLISH
X-ORIGINAL-URL:https://www.manorparkacademy.co.uk
X-WR-CALDESC:Events for Manor Park Primary Academy
REFRESH-INTERVAL;VALUE=DURATION:PT1H
X-Robots-Tag:noindex
X-PUBLISHED-TTL:PT1H
BEGIN:VTIMEZONE
TZID:UTC
BEGIN:STANDARD
TZOFFSETFROM:+0000
TZOFFSETTO:+0000
TZNAME:UTC
DTSTART:20260101T000000
END:STANDARD
END:VTIMEZONE
BEGIN:VEVENT
DTSTART;TZID=UTC:20260520T084000
DTEND;TZID=UTC:20260520T085500
DTSTAMP:20260422T181226
CREATED:20260306T123413Z
LAST-MODIFIED:20260306T123413Z
UID:3817-1779266400-1779267300@www.manorparkacademy.co.uk
SUMMARY:Reception Parent and Child Reading Session
DESCRIPTION:
URL:https://www.manorparkacademy.co.uk/school-calendar/reception-parent-and-child-reading-session-7/
END:VEVENT
BEGIN:VEVENT
DTSTART;TZID=UTC:20260520T090000
DTEND;TZID=UTC:20260520T103000
DTSTAMP:20260422T181226
CREATED:20260306T140024Z
LAST-MODIFIED:20260306T140024Z
UID:3823-1779267600-1779273000@www.manorparkacademy.co.uk
SUMMARY:Stay and Play
DESCRIPTION:
URL:https://www.manorparkacademy.co.uk/school-calendar/stay-and-play-16/
END:VEVENT
END:VCALENDAR