BEGIN:VCALENDAR
VERSION:2.0
PRODID:-//Manor Park Primary Academy - ECPv6.5.1.6//NONSGML v1.0//EN
CALSCALE:GREGORIAN
METHOD:PUBLISH
X-WR-CALNAME:Manor Park Primary Academy
X-ORIGINAL-URL:https://www.manorparkacademy.co.uk
X-WR-CALDESC:Events for Manor Park Primary Academy
REFRESH-INTERVAL;VALUE=DURATION:PT1H
X-Robots-Tag:noindex
X-PUBLISHED-TTL:PT1H
BEGIN:VTIMEZONE
TZID:UTC
BEGIN:STANDARD
TZOFFSETFROM:+0000
TZOFFSETTO:+0000
TZNAME:UTC
DTSTART:20260101T000000
END:STANDARD
END:VTIMEZONE
BEGIN:VEVENT
DTSTART;TZID=UTC:20260514T090000
DTEND;TZID=UTC:20260514T103000
DTSTAMP:20260422T181135
CREATED:20260306T123703Z
LAST-MODIFIED:20260306T123703Z
UID:3821-1778749200-1778754600@www.manorparkacademy.co.uk
SUMMARY:Stay and Play
DESCRIPTION:
URL:https://www.manorparkacademy.co.uk/school-calendar/stay-and-play-15/
END:VEVENT
END:VCALENDAR