BEGIN:VCALENDAR
VERSION:2.0
PRODID:-//Manor Park Primary Academy - ECPv6.5.1.6//NONSGML v1.0//EN
CALSCALE:GREGORIAN
METHOD:PUBLISH
X-ORIGINAL-URL:https://www.manorparkacademy.co.uk
X-WR-CALDESC:Events for Manor Park Primary Academy
REFRESH-INTERVAL;VALUE=DURATION:PT1H
X-Robots-Tag:noindex
X-PUBLISHED-TTL:PT1H
BEGIN:VTIMEZONE
TZID:UTC
BEGIN:STANDARD
TZOFFSETFROM:+0000
TZOFFSETTO:+0000
TZNAME:UTC
DTSTART:20260101T000000
END:STANDARD
END:VTIMEZONE
BEGIN:VEVENT
DTSTART;VALUE=DATE:20260330
DTEND;VALUE=DATE:20260411
DTSTAMP:20260422T181655
CREATED:20250619T093458Z
LAST-MODIFIED:20250619T093458Z
UID:3316-1774828800-1775865599@www.manorparkacademy.co.uk
SUMMARY:Easter Holiday - School Closed
DESCRIPTION:
URL:https://www.manorparkacademy.co.uk/school-calendar/easter-holiday-school-closed-2/
END:VEVENT
END:VCALENDAR